BEGIN:VCALENDAR
VERSION:2.0
PRODID:-//Kingsmill Resort and Realty - ECPv6.15.20//NONSGML v1.0//EN
CALSCALE:GREGORIAN
METHOD:PUBLISH
X-ORIGINAL-URL:https://kingsmill.com
X-WR-CALDESC:Events for Kingsmill Resort and Realty
REFRESH-INTERVAL;VALUE=DURATION:PT1H
X-Robots-Tag:noindex
X-PUBLISHED-TTL:PT1H
BEGIN:VTIMEZONE
TZID:UTC
BEGIN:STANDARD
TZOFFSETFROM:+0000
TZOFFSETTO:+0000
TZNAME:UTC
DTSTART:20240101T000000
END:STANDARD
END:VTIMEZONE
BEGIN:VEVENT
DTSTART;TZID=UTC:20251104T090000
DTEND;TZID=UTC:20251111T170000
DTSTAMP:20260421T062541
CREATED:20251008T175749Z
LAST-MODIFIED:20251104T233406Z
UID:41204-1762246800-1762880400@kingsmill.com
SUMMARY:Boots to Suits Drive
DESCRIPTION:Support our veterans during our Boots to Suits drive! Donate gently used suits\, blazers\, and dress shoes to help men and women transition from military to civilian careers. \nPlease ensure all items are freshly dry cleaned in the dry-cleaning packaging.  \nDrop off donations at the Membership Office\, November 4–11\, 9 AM–5 PM.
URL:https://kingsmill.com/event/boots-to-suits-drive/
LOCATION:Eagles
ATTACH;FMTTYPE=image/jpeg:https://kingsmill.com/wp-content/uploads/2025/10/BootstoSuits.jpg
END:VEVENT
BEGIN:VEVENT
DTSTART;TZID=UTC:20251105T160000
DTEND;TZID=UTC:20251105T180000
DTSTAMP:20260421T062541
CREATED:20251006T221931Z
LAST-MODIFIED:20251006T222045Z
UID:41143-1762358400-1762365600@kingsmill.com
SUMMARY:Kids Craft
DESCRIPTION:Join us at The Mill for a kid-friendly craft!
URL:https://kingsmill.com/event/kids-craft-45/
LOCATION:The Mill
ATTACH;FMTTYPE=image/jpeg:https://kingsmill.com/wp-content/uploads/2024/06/Mill.jpg
END:VEVENT
BEGIN:VEVENT
DTSTART;TZID=UTC:20251106T160000
DTEND;TZID=UTC:20251106T210000
DTSTAMP:20260421T062541
CREATED:20251006T222330Z
LAST-MODIFIED:20251104T024150Z
UID:41145-1762444800-1762462800@kingsmill.com
SUMMARY:National Nachos Day
DESCRIPTION:Celebrate National Nachos Day at James Landing Grille with a Next-Level Nacho Special at James Landing Grille!
URL:https://kingsmill.com/event/national-nachos-day/
LOCATION:James Landing Grille
ATTACH;FMTTYPE=image/jpeg:https://kingsmill.com/wp-content/uploads/2025/05/JLGDinner.jpg
END:VEVENT
BEGIN:VEVENT
DTSTART;TZID=UTC:20251107T180000
DTEND;TZID=UTC:20251107T200000
DTSTAMP:20260421T062541
CREATED:20251007T003819Z
LAST-MODIFIED:20251007T003819Z
UID:41150-1762538400-1762545600@kingsmill.com
SUMMARY:Trivia Night
DESCRIPTION:Join us at Eagles for food\, drinks\, and a few rounds of Trivia hosted by SpeedQuizzing VA! Play for a chance at prizes.
URL:https://kingsmill.com/event/trivia-night-17/
LOCATION:Eagles
ATTACH;FMTTYPE=image/jpeg:https://kingsmill.com/wp-content/uploads/2024/08/Eagles-1.jpg
END:VEVENT
BEGIN:VEVENT
DTSTART;TZID=UTC:20251109T110000
DTEND;TZID=UTC:20251109T210000
DTSTAMP:20260421T062541
CREATED:20251007T004119Z
LAST-MODIFIED:20251029T225555Z
UID:41152-1762686000-1762722000@kingsmill.com
SUMMARY:National Fried Chicken Sandwich Day
DESCRIPTION:Join us at Eagles and enjoy specials to celebrate National Fried Chicken Sandwich Day!
URL:https://kingsmill.com/event/national-fried-chicken-sandwich-day/
LOCATION:Eagles
ATTACH;FMTTYPE=image/jpeg:https://kingsmill.com/wp-content/uploads/2024/08/Eagles-1.jpg
END:VEVENT
BEGIN:VEVENT
DTSTART;VALUE=DATE:20251111
DTEND;VALUE=DATE:20251112
DTSTAMP:20260421T062541
CREATED:20251007T004656Z
LAST-MODIFIED:20251104T023408Z
UID:41154-1762819200-1762905599@kingsmill.com
SUMMARY:Veterans Day Golf Special
DESCRIPTION:To celebrate this important holiday\, Veterans (with a Military ID) can enjoy a free round of golf on the Plantation Course and only a $30 cart fee! Please note\, if you choose to walk\, you must still pay the cart fee. \nCall 866-371-6732 to schedule your tee-time today.
URL:https://kingsmill.com/event/veterans-day-golf-special/
LOCATION:Plantation Course
ATTACH;FMTTYPE=image/jpeg:https://kingsmill.com/wp-content/uploads/2024/10/golftn.jpg
END:VEVENT
BEGIN:VEVENT
DTSTART;TZID=UTC:20251121T180000
DTEND;TZID=UTC:20251121T200000
DTSTAMP:20260421T062541
CREATED:20251112T202315Z
LAST-MODIFIED:20251112T202315Z
UID:41736-1763748000-1763755200@kingsmill.com
SUMMARY:Music Bingo
DESCRIPTION:Join us for dinner\, drinks and a few rounds of Music Bingo!
URL:https://kingsmill.com/event/music-bingo-22/
LOCATION:Eagles
ATTACH;FMTTYPE=image/jpeg:https://kingsmill.com/wp-content/uploads/2024/08/Eagles-1.jpg
END:VEVENT
BEGIN:VEVENT
DTSTART;TZID=UTC:20251126T120000
DTEND;TZID=UTC:20251126T180000
DTSTAMP:20260421T062541
CREATED:20250924T223349Z
LAST-MODIFIED:20251007T183415Z
UID:41058-1764158400-1764180000@kingsmill.com
SUMMARY:Thanksgiving Feast To-Go
DESCRIPTION:Leave the cooking to us this Thanksgiving with Family Style Meals from Kingsmill Resort! Enjoy a traditional Thanksgiving Feast To-Go\, perfect for families of 6-8 people. \nClick here to VIEW MENU \nPick-Up Date: Wednesday\, November 26\, 2025 \nPick-Up Times: 12:00 pm – 6:00 pm \nLocation: Curbside Pick-Up by the Main Resort Center \nPlace Your Order: Please call (800) 832-5665 from 9 am – 6 pm. Please inform our team of any food allergies when you place your order. Order deadline is Saturday November 22\, 2025 at 4 pm.  \nReheat instructions provided at pick-up. \n72-hour cancelation policy \nAccounts will be charged around 72 hours prior to pick-up.
URL:https://kingsmill.com/event/thanksgiving-feast-to-go/
LOCATION:Main Resort Center
ATTACH;FMTTYPE=image/jpeg:https://kingsmill.com/wp-content/uploads/2025/09/TG-Feature.jpg
END:VEVENT
BEGIN:VEVENT
DTSTART;TZID=UTC:20251126T150000
DTEND;TZID=UTC:20251126T180000
DTSTAMP:20260421T062541
CREATED:20251007T004849Z
LAST-MODIFIED:20251007T005410Z
UID:41149-1764169200-1764180000@kingsmill.com
SUMMARY:Lobby Treats: Cocoa & Cookies
DESCRIPTION:Get in the holiday spirit with complimentary cocoas and cookies in the lobby!
URL:https://kingsmill.com/event/lobby-treats-cocoa-cookies/
LOCATION:Main Resort Center
ATTACH;FMTTYPE=image/jpeg:https://kingsmill.com/wp-content/uploads/2025/10/CookiesCocoa.jpg
END:VEVENT
BEGIN:VEVENT
DTSTART;TZID=UTC:20251126T190000
DTEND;TZID=UTC:20251126T210000
DTSTAMP:20260421T062541
CREATED:20251008T200319Z
LAST-MODIFIED:20251112T203042Z
UID:41218-1764183600-1764190800@kingsmill.com
SUMMARY:Moody's Karaoke Night
DESCRIPTION:Join us for Karaoke Night at Moody’s! Enjoy free karaoke\, a pool table\, and cash bar! \n*Moody’s is located on the 5th floor of the main resort building.
URL:https://kingsmill.com/event/moodys-nightcap-6/
LOCATION:Moody’s Tavern
ATTACH;FMTTYPE=image/jpeg:https://kingsmill.com/wp-content/uploads/2025/03/Moodys2024.jpg
END:VEVENT
BEGIN:VEVENT
DTSTART;TZID=UTC:20251127T130000
DTEND;TZID=UTC:20251127T180000
DTSTAMP:20260421T062541
CREATED:20250915T211317Z
LAST-MODIFIED:20251120T192434Z
UID:40976-1764248400-1764266400@kingsmill.com
SUMMARY:Thanksgiving Buffet
DESCRIPTION:Celebrate Thanksgiving with us in the James River Grand Ballroom\, where sweeping views of the James River make the perfect backdrop for a day of gratitude and good food. \nOur chefs are preparing a plentiful spread\, featuring hot buffet selections\, chilled displays\, and fresh seafood offerings. Enjoy carved-to-order favorites\, a wide variety of seasonal sides\, and decadent desserts to finish on a sweet note. For our younger guests\, a kid-friendly menu will be available so the whole family can join in the feast. Enjoy live music from Farren Winter\, 1 PM – 7 PM.  \nCLICK HERE TO VIEW THE MENU!\nThe Thanksgiving Buffet is available exclusively to Members of The Club at Kingsmill and Kingsmill Resort Guests. \nPlease note\, there is a 72-hour cancellation policy. \nCLICK HERE TO MAKE YOUR RESERVATION
URL:https://kingsmill.com/event/thanksgiving-buffet-2/
LOCATION:James River Grand Ballroom
ATTACH;FMTTYPE=image/jpeg:https://kingsmill.com/wp-content/uploads/2024/09/thanksgivignevent.jpg
END:VEVENT
BEGIN:VEVENT
DTSTART;TZID=UTC:20251127T150000
DTEND;TZID=UTC:20251127T180000
DTSTAMP:20260421T062541
CREATED:20251007T005102Z
LAST-MODIFIED:20251007T005354Z
UID:41161-1764255600-1764266400@kingsmill.com
SUMMARY:Lobby Treats: Cocoa & Cookies
DESCRIPTION:Get in the holiday spirit with complimentary cocoas and cookies in the lobby!
URL:https://kingsmill.com/event/lobby-treats-cocoa-cookies-2/
LOCATION:Main Resort Center
ATTACH;FMTTYPE=image/jpeg:https://kingsmill.com/wp-content/uploads/2025/10/CookiesCocoa.jpg
END:VEVENT
END:VCALENDAR